BEGIN:VCALENDAR
VERSION:2.0
PRODID:-//StartupLabor//Kalender Export//DE
CALSCALE:GREGORIAN
BEGIN:VEVENT
UID:69e5a2fa5e5e3@startuplabor
SUMMARY:TransBIB-Symposium Leipzig
DESCRIPTION:
LOCATION:Kunstkraftwerk Leipzig, Saalfelder Str. 8, 04179 Leipzig
DTSTART;VALUE=DATE:20260520
DTEND;VALUE=DATE:20260522
END:VEVENT
END:VCALENDAR
