BEGIN:VCALENDAR
VERSION:2.0
PRODID:-//StartupLabor//Kalender Export//DE
CALSCALE:GREGORIAN
BEGIN:VEVENT
UID:69e734ac7bec6@startuplabor
SUMMARY:HANGAR: Flugplatz Exkursion
DESCRIPTION:
LOCATION:HANGAR: Makerspace, Garzauer Chaussee 1a , 15344 Strausberg
DTSTART:20260312T100000
DTEND:20260312T150000
END:VEVENT
END:VCALENDAR
